Workbook

Sheet サービス一覧
A1: サービスとライセンスの一覧
A2: 契約ライセンス数を入れると、割り当て数と空きが「アカウント」シートから自動で数えられます。
A3: サービス名 | B3: 用途 | C3: 管理者(主) | D3: 管理者(予備) | E3: ログイン方式 | F3: 契約ライセンス数 | G3: 割り当て数 | H3: 空き | I3: 1ライセンスの月額 | J3: 空きの月額 | K3: 前回の棚卸し日 | L3: 要確認
A4: グループウェアA | B4: メール・予定表・ファイル | C4: 総務部 鈴木 | D4: 営業部 山田 | E4: SSO | F4: 5 | G4: =IF(A4="","",COUNTIFS('アカウント'!$A:$A,A4,'アカウント'!$H:$H,"<>停止済",'アカウント'!$H:$H,"<>削除済")) | H4: =IF(OR(A4="",F4=""),"",F4-G4) | I4: 1900 | J4: =IF(OR(H4="",I4=""),"",MAX(H4,0)*I4) | K4: 46122 | L4: =IF(A4="","",TRIM(IF(AND(H4<>"",H4<0),"ライセンス不足 ","")&IF(AND(H4<>"",H4>=3),"空き"&H4&" ","")&IF(E4="ID・パスワードのみ","多要素認証なし ","")&IF(OR(K4="",TODAY()-K4>183),"棚卸しの時期","")))
A5: チャットB | B5: 社内の連絡 | C5: 総務部 鈴木 | D5: 営業部 山田 | E5: SSO | F5: 1 | G5: =IF(A5="","",COUNTIFS('アカウント'!$A:$A,A5,'アカウント'!$H:$H,"<>停止済",'アカウント'!$H:$H,"<>削除済")) | H5: =IF(OR(A5="",F5=""),"",F5-G5) | I5: 1000 | J5: =IF(OR(H5="",I5=""),"",MAX(H5,0)*I5) | K5: 46122 | L5: =IF(A5="","",TRIM(IF(AND(H5<>"",H5<0),"ライセンス不足 ","")&IF(AND(H5<>"",H5>=3),"空き"&H5&" ","")&IF(E5="ID・パスワードのみ","多要素認証なし ","")&IF(OR(K5="",TODAY()-K5>183),"棚卸しの時期","")))
A6: 会計クラウドC | B6: 経理・請求書 | C6: 経理部 田中 | D6: 総務部 鈴木 | E6: ID・パスワード+多要素認証 | F6: 1 | G6: =IF(A6="","",COUNTIFS('アカウント'!$A:$A,A6,'アカウント'!$H:$H,"<>停止済",'アカウント'!$H:$H,"<>削除済")) | H6: =IF(OR(A6="",F6=""),"",F6-G6) | I6: 3000 | J6: =IF(OR(H6="",I6=""),"",MAX(H6,0)*I6) | K6: 46122 | L6: =IF(A6="","",TRIM(IF(AND(H6<>"",H6<0),"ライセンス不足 ","")&IF(AND(H6<>"",H6>=3),"空き"&H6&" ","")&IF(E6="ID・パスワードのみ","多要素認証なし ","")&IF(OR(K6="",TODAY()-K6>183),"棚卸しの時期","")))
A7: Web会議D | B7: 社外との打ち合わせ | C7: 総務部 鈴木 | E7: ID・パスワードのみ | F7: 1 | G7: =IF(A7="","",COUNTIFS('アカウント'!$A:$A,A7,'アカウント'!$H:$H,"<>停止済",'アカウント'!$H:$H,"<>削除済")) | H7: =IF(OR(A7="",F7=""),"",F7-G7) | I7: 2000 | J7: =IF(OR(H7="",I7=""),"",MAX(H7,0)*I7) | K7: 45901 | L7: =IF(A7="","",TRIM(IF(AND(H7<>"",H7<0),"ライセンス不足 ","")&IF(AND(H7<>"",H7>=3),"空き"&H7&" ","")&IF(E7="ID・パスワードのみ","多要素認証なし ","")&IF(OR(K7="",TODAY()-K7>183),"棚卸しの時期","")))
G8: =IF(A8="","",COUNTIFS('アカウント'!$A:$A,A8,'アカウント'!$H:$H,"<>停止済",'アカウント'!$H:$H,"<>削除済")) | H8: =IF(OR(A8="",F8=""),"",F8-G8) | J8: =IF(OR(H8="",I8=""),"",MAX(H8,0)*I8) | L8: =IF(A8="","",TRIM(IF(AND(H8<>"",H8<0),"ライセンス不足 ","")&IF(AND(H8<>"",H8>=3),"空き"&H8&" ","")&IF(E8="ID・パスワードのみ","多要素認証なし ","")&IF(OR(K8="",TODAY()-K8>183),"棚卸しの時期","")))
G9: =IF(A9="","",COUNTIFS('アカウント'!$A:$A,A9,'アカウント'!$H:$H,"<>停止済",'アカウント'!$H:$H,"<>削除済")) | H9: =IF(OR(A9="",F9=""),"",F9-G9) | J9: =IF(OR(H9="",I9=""),"",MAX(H9,0)*I9) | L9: =IF(A9="","",TRIM(IF(AND(H9<>"",H9<0),"ライセンス不足 ","")&IF(AND(H9<>"",H9>=3),"空き"&H9&" ","")&IF(E9="ID・パスワードのみ","多要素認証なし ","")&IF(OR(K9="",TODAY()-K9>183),"棚卸しの時期","")))
G10: =IF(A10="","",COUNTIFS('アカウント'!$A:$A,A10,'アカウント'!$H:$H,"<>停止済",'アカウント'!$H:$H,"<>削除済")) | H10: =IF(OR(A10="",F10=""),"",F10-G10) | J10: =IF(OR(H10="",I10=""),"",MAX(H10,0)*I10) | L10: =IF(A10="","",TRIM(IF(AND(H10<>"",H10<0),"ライセンス不足 ","")&IF(AND(H10<>"",H10>=3),"空き"&H10&" ","")&IF(E10="ID・パスワードのみ","多要素認証なし ","")&IF(OR(K10="",TODAY()-K10>183),"棚卸しの時期","")))
G11: =IF(A11="","",COUNTIFS('アカウント'!$A:$A,A11,'アカウント'!$H:$H,"<>停止済",'アカウント'!$H:$H,"<>削除済")) | H11: =IF(OR(A11="",F11=""),"",F11-G11) | J11: =IF(OR(H11="",I11=""),"",MAX(H11,0)*I11) | L11: =IF(A11="","",TRIM(IF(AND(H11<>"",H11<0),"ライセンス不足 ","")&IF(AND(H11<>"",H11>=3),"空き"&H11&" ","")&IF(E11="ID・パスワードのみ","多要素認証なし ","")&IF(OR(K11="",TODAY()-K11>183),"棚卸しの時期","")))
G12: =IF(A12="","",COUNTIFS('アカウント'!$A:$A,A12,'アカウント'!$H:$H,"<>停止済",'アカウント'!$H:$H,"<>削除済")) | H12: =IF(OR(A12="",F12=""),"",F12-G12) | J12: =IF(OR(H12="",I12=""),"",MAX(H12,0)*I12) | L12: =IF(A12="","",TRIM(IF(AND(H12<>"",H12<0),"ライセンス不足 ","")&IF(AND(H12<>"",H12>=3),"空き"&H12&" ","")&IF(E12="ID・パスワードのみ","多要素認証なし ","")&IF(OR(K12="",TODAY()-K12>183),"棚卸しの時期","")))
G13: =IF(A13="","",COUNTIFS('アカウント'!$A:$A,A13,'アカウント'!$H:$H,"<>停止済",'アカウント'!$H:$H,"<>削除済")) | H13: =IF(OR(A13="",F13=""),"",F13-G13) | J13: =IF(OR(H13="",I13=""),"",MAX(H13,0)*I13) | L13: =IF(A13="","",TRIM(IF(AND(H13<>"",H13<0),"ライセンス不足 ","")&IF(AND(H13<>"",H13>=3),"空き"&H13&" ","")&IF(E13="ID・パスワードのみ","多要素認証なし ","")&IF(OR(K13="",TODAY()-K13>183),"棚卸しの時期","")))
G14: =IF(A14="","",COUNTIFS('アカウント'!$A:$A,A14,'アカウント'!$H:$H,"<>停止済",'アカウント'!$H:$H,"<>削除済")) | H14: =IF(OR(A14="",F14=""),"",F14-G14) | J14: =IF(OR(H14="",I14=""),"",MAX(H14,0)*I14) | L14: =IF(A14="","",TRIM(IF(AND(H14<>"",H14<0),"ライセンス不足 ","")&IF(AND(H14<>"",H14>=3),"空き"&H14&" ","")&IF(E14="ID・パスワードのみ","多要素認証なし ","")&IF(OR(K14="",TODAY()-K14>183),"棚卸しの時期","")))
G15: =IF(A15="","",COUNTIFS('アカウント'!$A:$A,A15,'アカウント'!$H:$H,"<>停止済",'アカウント'!$H:$H,"<>削除済")) | H15: =IF(OR(A15="",F15=""),"",F15-G15) | J15: =IF(OR(H15="",I15=""),"",MAX(H15,0)*I15) | L15: =IF(A15="","",TRIM(IF(AND(H15<>"",H15<0),"ライセンス不足 ","")&IF(AND(H15<>"",H15>=3),"空き"&H15&" ","")&IF(E15="ID・パスワードのみ","多要素認証なし ","")&IF(OR(K15="",TODAY()-K15>183),"棚卸しの時期","")))
G16: =IF(A16="","",COUNTIFS('アカウント'!$A:$A,A16,'アカウント'!$H:$H,"<>停止済",'アカウント'!$H:$H,"<>削除済")) | H16: =IF(OR(A16="",F16=""),"",F16-G16) | J16: =IF(OR(H16="",I16=""),"",MAX(H16,0)*I16) | L16: =IF(A16="","",TRIM(IF(AND(H16<>"",H16<0),"ライセンス不足 ","")&IF(AND(H16<>"",H16>=3),"空き"&H16&" ","")&IF(E16="ID・パスワードのみ","多要素認証なし ","")&IF(OR(K16="",TODAY()-K16>183),"棚卸しの時期","")))
G17: =IF(A17="","",COUNTIFS('アカウント'!$A:$A,A17,'アカウント'!$H:$H,"<>停止済",'アカウント'!$H:$H,"<>削除済")) | H17: =IF(OR(A17="",F17=""),"",F17-G17) | J17: =IF(OR(H17="",I17=""),"",MAX(H17,0)*I17) | L17: =IF(A17="","",TRIM(IF(AND(H17<>"",H17<0),"ライセンス不足 ","")&IF(AND(H17<>"",H17>=3),"空き"&H17&" ","")&IF(E17="ID・パスワードのみ","多要素認証なし ","")&IF(OR(K17="",TODAY()-K17>183),"棚卸しの時期","")))
G18: =IF(A18="","",COUNTIFS('アカウント'!$A:$A,A18,'アカウント'!$H:$H,"<>停止済",'アカウント'!$H:$H,"<>削除済")) | H18: =IF(OR(A18="",F18=""),"",F18-G18) | J18: =IF(OR(H18="",I18=""),"",MAX(H18,0)*I18) | L18: =IF(A18="","",TRIM(IF(AND(H18<>"",H18<0),"ライセンス不足 ","")&IF(AND(H18<>"",H18>=3),"空き"&H18&" ","")&IF(E18="ID・パスワードのみ","多要素認証なし ","")&IF(OR(K18="",TODAY()-K18>183),"棚卸しの時期","")))
G19: =IF(A19="","",COUNTIFS('アカウント'!$A:$A,A19,'アカウント'!$H:$H,"<>停止済",'アカウント'!$H:$H,"<>削除済")) | H19: =IF(OR(A19="",F19=""),"",F19-G19) | J19: =IF(OR(H19="",I19=""),"",MAX(H19,0)*I19) | L19: =IF(A19="","",TRIM(IF(AND(H19<>"",H19<0),"ライセンス不足 ","")&IF(AND(H19<>"",H19>=3),"空き"&H19&" ","")&IF(E19="ID・パスワードのみ","多要素認証なし ","")&IF(OR(K19="",TODAY()-K19>183),"棚卸しの時期","")))
... G37: =IF(A37="","",COUNTIFS('アカウント'!$A:$A,A37,'アカウント'!$H:$H,"<>停止済",'アカウント'!$H:$H,"<>削除済")) | H37: =IF(OR(A37="",F37=""),"",F37-G37) | J37: =IF(OR(H37="",I37=""),"",MAX(H37,0)*I37) | L37: =IF(A37="","",TRIM(IF(AND(H37<>"",H37<0),"ライセンス不足 ","")&IF(AND(H37<>"",H37>=3),"空き"&H37&" ","")&IF(E37="ID・パスワードのみ","多要素認証なし ","")&IF(OR(K37="",TODAY()-K37>183),"棚卸しの時期","")))
A38: 合計 | J38: =SUM(J4:J37)

Sheet アカウント
A1: アカウントの一覧
A2: 1行に1アカウントです。共有のアカウントやシステム用のアカウント、社外のゲストも書きます。
A3: サービス名 | B3: アカウント(ID) | C3: 利用者 | D3: 種別 | E3: 権限 | F3: プラン・ライセンス | G3: 発行日 | H3: 状態 | I3: 最終ログイン | J3: 未ログイン日数 | K3: 棚卸し日 | L3: 要確認 | M3: 停止・削除日 | N3: 備考
A4: グループウェアA | B4: yamada@example.co.jp | C4: 営業部 山田 | D4: 社員 | E4: 一般 | F4: 標準プラン | G4: 45383 | H4: 利用中 | I4: 46297 | J4: =IF(OR(I4="",H4<>"利用中"),"",TODAY()-I4) | K4: 46122 | L4: =IF(OR(A4="",H4="削除済"),"",TRIM(IF(AND(J4<>"",J4>=90),"90日未使用 ","")&IF(AND(H4="利用中",OR(E4="管理者",E4="特権管理者"),OR(K4="",TODAY()-K4>92)),"管理者の確認時期 ","")&IF(D4="共有・システム用","共有ID ","")&IF(AND(H4<>"停止済",OR(K4="",TODAY()-K4>183)),"棚卸し未実施","")))
A5: グループウェアA | B5: admin01@example.co.jp | C5: 総務部 鈴木 | D5: 社員 | E5: 特権管理者 | F5: 標準プラン | G5: 44652 | H5: 利用中 | I5: 46295 | J5: =IF(OR(I5="",H5<>"利用中"),"",TODAY()-I5) | K5: 46237 | L5: =IF(OR(A5="",H5="削除済"),"",TRIM(IF(AND(J5<>"",J5>=90),"90日未使用 ","")&IF(AND(H5="利用中",OR(E5="管理者",E5="特権管理者"),OR(K5="",TODAY()-K5>92)),"管理者の確認時期 ","")&IF(D5="共有・システム用","共有ID ","")&IF(AND(H5<>"停止済",OR(K5="",TODAY()-K5>183)),"棚卸し未実施",""))) | N5: ふだんは使わない管理用
A6: チャットB | B6: nakamura@example.co.jp | C6: 営業部 中村 | D6: 社員 | E6: 一般 | F6: 標準 | G6: 45017 | H6: 停止済 | I6: 46171 | J6: =IF(OR(I6="",H6<>"利用中"),"",TODAY()-I6) | K6: 46122 | L6: =IF(OR(A6="",H6="削除済"),"",TRIM(IF(AND(J6<>"",J6>=90),"90日未使用 ","")&IF(AND(H6="利用中",OR(E6="管理者",E6="特権管理者"),OR(K6="",TODAY()-K6>92)),"管理者の確認時期 ","")&IF(D6="共有・システム用","共有ID ","")&IF(AND(H6<>"停止済",OR(K6="",TODAY()-K6>183)),"棚卸し未実施",""))) | M6: 46171 | N6: 5月末に退職。30日後に削除する
A7: 会計クラウドC | B7: keiri@example.co.jp | C7: 経理部(共用) | D7: 共有・システム用 | E7: 管理者 | F7: ビジネス | G7: 44378 | H7: 利用中 | I7: 46203 | J7: =IF(OR(I7="",H7<>"利用中"),"",TODAY()-I7) | K7: 45992 | L7: =IF(OR(A7="",H7="削除済"),"",TRIM(IF(AND(J7<>"",J7>=90),"90日未使用 ","")&IF(AND(H7="利用中",OR(E7="管理者",E7="特権管理者"),OR(K7="",TODAY()-K7>92)),"管理者の確認時期 ","")&IF(D7="共有・システム用","共有ID ","")&IF(AND(H7<>"停止済",OR(K7="",TODAY()-K7>183)),"棚卸し未実施",""))) | N7: 共用をやめて個人のIDへ移す
A8: Web会議D | B8: tanaka@example.co.jp | C8: 経理部 田中 | D8: 社員 | E8: 一般 | F8: プロ | G8: 45672 | H8: 利用中 | I8: 46083 | J8: =IF(OR(I8="",H8<>"利用中"),"",TODAY()-I8) | L8: =IF(OR(A8="",H8="削除済"),"",TRIM(IF(AND(J8<>"",J8>=90),"90日未使用 ","")&IF(AND(H8="利用中",OR(E8="管理者",E8="特権管理者"),OR(K8="",TODAY()-K8>92)),"管理者の確認時期 ","")&IF(D8="共有・システム用","共有ID ","")&IF(AND(H8<>"停止済",OR(K8="",TODAY()-K8>183)),"棚卸し未実施","")))
J9: =IF(OR(I9="",H9<>"利用中"),"",TODAY()-I9) | L9: =IF(OR(A9="",H9="削除済"),"",TRIM(IF(AND(J9<>"",J9>=90),"90日未使用 ","")&IF(AND(H9="利用中",OR(E9="管理者",E9="特権管理者"),OR(K9="",TODAY()-K9>92)),"管理者の確認時期 ","")&IF(D9="共有・システム用","共有ID ","")&IF(AND(H9<>"停止済",OR(K9="",TODAY()-K9>183)),"棚卸し未実施","")))
J10: =IF(OR(I10="",H10<>"利用中"),"",TODAY()-I10) | L10: =IF(OR(A10="",H10="削除済"),"",TRIM(IF(AND(J10<>"",J10>=90),"90日未使用 ","")&IF(AND(H10="利用中",OR(E10="管理者",E10="特権管理者"),OR(K10="",TODAY()-K10>92)),"管理者の確認時期 ","")&IF(D10="共有・システム用","共有ID ","")&IF(AND(H10<>"停止済",OR(K10="",TODAY()-K10>183)),"棚卸し未実施","")))
J11: =IF(OR(I11="",H11<>"利用中"),"",TODAY()-I11) | L11: =IF(OR(A11="",H11="削除済"),"",TRIM(IF(AND(J11<>"",J11>=90),"90日未使用 ","")&IF(AND(H11="利用中",OR(E11="管理者",E11="特権管理者"),OR(K11="",TODAY()-K11>92)),"管理者の確認時期 ","")&IF(D11="共有・システム用","共有ID ","")&IF(AND(H11<>"停止済",OR(K11="",TODAY()-K11>183)),"棚卸し未実施","")))
J12: =IF(OR(I12="",H12<>"利用中"),"",TODAY()-I12) | L12: =IF(OR(A12="",H12="削除済"),"",TRIM(IF(AND(J12<>"",J12>=90),"90日未使用 ","")&IF(AND(H12="利用中",OR(E12="管理者",E12="特権管理者"),OR(K12="",TODAY()-K12>92)),"管理者の確認時期 ","")&IF(D12="共有・システム用","共有ID ","")&IF(AND(H12<>"停止済",OR(K12="",TODAY()-K12>183)),"棚卸し未実施","")))
J13: =IF(OR(I13="",H13<>"利用中"),"",TODAY()-I13) | L13: =IF(OR(A13="",H13="削除済"),"",TRIM(IF(AND(J13<>"",J13>=90),"90日未使用 ","")&IF(AND(H13="利用中",OR(E13="管理者",E13="特権管理者"),OR(K13="",TODAY()-K13>92)),"管理者の確認時期 ","")&IF(D13="共有・システム用","共有ID ","")&IF(AND(H13<>"停止済",OR(K13="",TODAY()-K13>183)),"棚卸し未実施","")))
J14: =IF(OR(I14="",H14<>"利用中"),"",TODAY()-I14) | L14: =IF(OR(A14="",H14="削除済"),"",TRIM(IF(AND(J14<>"",J14>=90),"90日未使用 ","")&IF(AND(H14="利用中",OR(E14="管理者",E14="特権管理者"),OR(K14="",TODAY()-K14>92)),"管理者の確認時期 ","")&IF(D14="共有・システム用","共有ID ","")&IF(AND(H14<>"停止済",OR(K14="",TODAY()-K14>183)),"棚卸し未実施","")))
J15: =IF(OR(I15="",H15<>"利用中"),"",TODAY()-I15) | L15: =IF(OR(A15="",H15="削除済"),"",TRIM(IF(AND(J15<>"",J15>=90),"90日未使用 ","")&IF(AND(H15="利用中",OR(E15="管理者",E15="特権管理者"),OR(K15="",TODAY()-K15>92)),"管理者の確認時期 ","")&IF(D15="共有・システム用","共有ID ","")&IF(AND(H15<>"停止済",OR(K15="",TODAY()-K15>183)),"棚卸し未実施","")))
J16: =IF(OR(I16="",H16<>"利用中"),"",TODAY()-I16) | L16: =IF(OR(A16="",H16="削除済"),"",TRIM(IF(AND(J16<>"",J16>=90),"90日未使用 ","")&IF(AND(H16="利用中",OR(E16="管理者",E16="特権管理者"),OR(K16="",TODAY()-K16>92)),"管理者の確認時期 ","")&IF(D16="共有・システム用","共有ID ","")&IF(AND(H16<>"停止済",OR(K16="",TODAY()-K16>183)),"棚卸し未実施","")))
J17: =IF(OR(I17="",H17<>"利用中"),"",TODAY()-I17) | L17: =IF(OR(A17="",H17="削除済"),"",TRIM(IF(AND(J17<>"",J17>=90),"90日未使用 ","")&IF(AND(H17="利用中",OR(E17="管理者",E17="特権管理者"),OR(K17="",TODAY()-K17>92)),"管理者の確認時期 ","")&IF(D17="共有・システム用","共有ID ","")&IF(AND(H17<>"停止済",OR(K17="",TODAY()-K17>183)),"棚卸し未実施","")))
J18: =IF(OR(I18="",H18<>"利用中"),"",TODAY()-I18) | L18: =IF(OR(A18="",H18="削除済"),"",TRIM(IF(AND(J18<>"",J18>=90),"90日未使用 ","")&IF(AND(H18="利用中",OR(E18="管理者",E18="特権管理者"),OR(K18="",TODAY()-K18>92)),"管理者の確認時期 ","")&IF(D18="共有・システム用","共有ID ","")&IF(AND(H18<>"停止済",OR(K18="",TODAY()-K18>183)),"棚卸し未実施","")))
J19: =IF(OR(I19="",H19<>"利用中"),"",TODAY()-I19) | L19: =IF(OR(A19="",H19="削除済"),"",TRIM(IF(AND(J19<>"",J19>=90),"90日未使用 ","")&IF(AND(H19="利用中",OR(E19="管理者",E19="特権管理者"),OR(K19="",TODAY()-K19>92)),"管理者の確認時期 ","")&IF(D19="共有・システム用","共有ID ","")&IF(AND(H19<>"停止済",OR(K19="",TODAY()-K19>183)),"棚卸し未実施","")))
J20: =IF(OR(I20="",H20<>"利用中"),"",TODAY()-I20) | L20: =IF(OR(A20="",H20="削除済"),"",TRIM(IF(AND(J20<>"",J20>=90),"90日未使用 ","")&IF(AND(H20="利用中",OR(E20="管理者",E20="特権管理者"),OR(K20="",TODAY()-K20>92)),"管理者の確認時期 ","")&IF(D20="共有・システム用","共有ID ","")&IF(AND(H20<>"停止済",OR(K20="",TODAY()-K20>183)),"棚卸し未実施","")))
... J88: =IF(OR(I88="",H88<>"利用中"),"",TODAY()-I88) | L88: =IF(OR(A88="",H88="削除済"),"",TRIM(IF(AND(J88<>"",J88>=90),"90日未使用 ","")&IF(AND(H88="利用中",OR(E88="管理者",E88="特権管理者"),OR(K88="",TODAY()-K88>92)),"管理者の確認時期 ","")&IF(D88="共有・システム用","共有ID ","")&IF(AND(H88<>"停止済",OR(K88="",TODAY()-K88>183)),"棚卸し未実施","")))

Sheet 使い方
B1: 使い方
B3: このファイルは「サービス一覧」「アカウント」「使い方」の3枚でできています。
B4: サービス一覧には、会社がお金を払っているサービスだけでなく、無料で使っているサービスや部署が独自に契約したものも書きます。
B5: 管理者は主と予備の2人を決めます。1人だけだと、その人が休んだり辞めたりしたときに誰も設定を変えられません。
B6: アカウントのサービス名は、サービス一覧と1字も違わないように書きます。違うと割り当て数に数えられません。
B7: 利用者は「部署 姓」で書きます。共用やシステム用のアカウントは種別を「共有・システム用」にし、使っている部署を書きます。
B8: 最終ログインは、管理画面のユーザー一覧や監査ログで確かめます。90日以上使われていないアカウントには「90日未使用」と出ます。止めるか、本人に確かめてください。
B9: 管理者と特権管理者のアカウントは、3か月ごとに要るかどうかを確かめます。確かめた日を棚卸し日に入れると表示が消えます。
B10: 退職者のアカウントは、最終出社日の終業後に止め、状態を「停止済」にして停止日を書きます。データの引き継ぎを確かめてから削除し、「削除済」にします。行は消さずに残します。
B11: 空きの月額は、契約しているのに誰にも割り当てていないライセンスの月額です。更新の前に、契約数を減らせないか確かめます。
B12: SaaSの契約(更新日・解約の期限)は、別のテンプレ「SaaS契約管理台帳」で管理します。
B13: パスワードはこの台帳に書かないでください。パスワードはパスワード管理ツールに入れ、台帳には保管先だけを書きます。
